BEGIN:VCALENDAR
VERSION:2.0
PRODID:-//Oasis Church - ECPv6.15.20//NONSGML v1.0//EN
CALSCALE:GREGORIAN
METHOD:PUBLISH
X-WR-CALNAME:Oasis Church
X-ORIGINAL-URL:https://oasischurch.com.au
X-WR-CALDESC:Events for Oasis Church
REFRESH-INTERVAL;VALUE=DURATION:PT1H
X-Robots-Tag:noindex
X-PUBLISHED-TTL:PT1H
BEGIN:VTIMEZONE
TZID:Australia/Brisbane
BEGIN:STANDARD
TZOFFSETFROM:+1000
TZOFFSETTO:+1000
TZNAME:AEST
DTSTART:20180101T000000
END:STANDARD
END:VTIMEZONE
BEGIN:VEVENT
DTSTART;VALUE=DATE:20200830
DTEND;VALUE=DATE:20200831
DTSTAMP:20260426T121558
CREATED:20200717T004534Z
LAST-MODIFIED:20200904T021328Z
UID:4779-1598745600-1598831999@oasischurch.com.au
SUMMARY:Sunday Services 9am & 6pm
DESCRIPTION:GATHER ONLINE\nChurch Online will continue to be streamed at 9AM on our regular platforms. \n\n\n\n\n\n\n\n\n\n\nGATHER IN-PERSON\nIf you would like to gather in-person with us\, you can register for a Sunday service (9AM and 6PM) by using the links below or by calling (07) 3882 1989. Spaces are limited\, so registrations are essential. Registration will open each Tuesday at 10am. If you are unwell\, please do not attend at this time and join us on Church Online instead. \n\n\n\n\n\nRegister for 9am serviceRegister for 6PM service
URL:https://oasischurch.com.au/event/sunday-services-9am-6pm-16/
CATEGORIES:Community,Worship & Prayer
ATTACH;FMTTYPE=image/png:https://oasischurch.com.au/wp-content/uploads/2020/06/Facebook_Cover.png
END:VEVENT
BEGIN:VEVENT
DTSTART;VALUE=DATE:20200823
DTEND;VALUE=DATE:20200824
DTSTAMP:20260426T121558
CREATED:20200717T004513Z
LAST-MODIFIED:20200818T002138Z
UID:4781-1598140800-1598227199@oasischurch.com.au
SUMMARY:Sunday Services 9am & 6pm
DESCRIPTION:GATHER ONLINE\nChurch Online will continue to be streamed at 9AM and 6PM on our regular platforms. \n\n\n\n\n\n\n\n\n\n\nGATHER IN-PERSON\nIf you would like to gather in-person with us\, you can register for a Sunday service (9AM and 6PM) by using the links below or by calling (07) 3882 1989. Spaces are limited\, so registrations are essential. Registration will open each Tuesday at 10am. If you are unwell\, please do not attend at this time and join us on Church Online instead. \n\n\n\n\n\nRegister for 9am serviceRegister for 6PM service
URL:https://oasischurch.com.au/event/sunday-services-9am-6pm-15/
CATEGORIES:Community,Worship & Prayer
ATTACH;FMTTYPE=image/png:https://oasischurch.com.au/wp-content/uploads/2020/06/Facebook_Cover.png
END:VEVENT
BEGIN:VEVENT
DTSTART;VALUE=DATE:20200816
DTEND;VALUE=DATE:20200817
DTSTAMP:20260426T121558
CREATED:20200717T004431Z
LAST-MODIFIED:20200811T005357Z
UID:4780-1597536000-1597622399@oasischurch.com.au
SUMMARY:Sunday Services 9am & 6pm
DESCRIPTION:GATHER ONLINE\nChurch Online will continue to be streamed at 9AM and 6PM on our regular platforms. \n\n\n\n\n\n\n\n\n\n\nGATHER IN-PERSON\nIf you would like to gather in-person with us\, you can register for a Sunday service (9AM and 6PM) by using the links below or by calling (07) 3882 1989. Spaces are limited\, so registrations are essential. Registration will open each Tuesday at 10am. If you are unwell\, please do not attend at this time and join us on Church Online instead. \n\n\n\n\n\nRegister for 9aM serviceRegister for 6pm service
URL:https://oasischurch.com.au/event/sunday-services-9am-6pm-14/
CATEGORIES:Community,Worship & Prayer
ATTACH;FMTTYPE=image/png:https://oasischurch.com.au/wp-content/uploads/2020/06/Facebook_Cover.png
END:VEVENT
BEGIN:VEVENT
DTSTART;VALUE=DATE:20200809
DTEND;VALUE=DATE:20200810
DTSTAMP:20260426T121558
CREATED:20200717T004412Z
LAST-MODIFIED:20200803T234234Z
UID:4782-1596931200-1597017599@oasischurch.com.au
SUMMARY:Sunday Services 9am & 6pm
DESCRIPTION:GATHER ONLINE\nChurch Online will continue to be streamed at 9AM and 6PM on our regular platforms. \n\n\n\n\n\n\n\n\n\n\nGATHER IN-PERSON\nIf you would like to gather in-person with us\, you can register for a Sunday service (9AM and 6PM) by using the links below or by calling (07) 3882 1989. Spaces are limited\, so registrations are essential. Registration will open each Tuesday at 10am. If you are unwell\, please do not attend at this time and join us on Church Online instead. \n\n\n\n\n\nRegister for 9am serviceRegister for 6pm service
URL:https://oasischurch.com.au/event/sunday-services-9am-6pm-13/
CATEGORIES:Community,Worship & Prayer
ATTACH;FMTTYPE=image/png:https://oasischurch.com.au/wp-content/uploads/2020/06/Facebook_Cover.png
END:VEVENT
BEGIN:VEVENT
DTSTART;VALUE=DATE:20200802
DTEND;VALUE=DATE:20200803
DTSTAMP:20260426T121558
CREATED:20200717T004352Z
LAST-MODIFIED:20200728T000606Z
UID:4783-1596326400-1596412799@oasischurch.com.au
SUMMARY:Sunday Services 9am & 6pm
DESCRIPTION:GATHER ONLINE\nChurch Online will continue to be streamed at 9AM and 6PM on our regular platforms. \n\n\n\n\n\n\n\n\n\n\nGATHER IN-PERSON\nIf you would like to gather in-person with us\, you can register for a Sunday service (9AM and 6PM) by using the links below or by calling (07) 3882 1989. Spaces are limited\, so registrations are essential. Registration will open each Tuesday at 10am. If you are unwell\, please do not attend at this time and join us on Church Online instead. \n\n\n\n\n\nRegister for the 9am ServiceRegister for the 6pm Service
URL:https://oasischurch.com.au/event/sunday-services-9am-6pm-11/
CATEGORIES:Community,Worship & Prayer
ATTACH;FMTTYPE=image/png:https://oasischurch.com.au/wp-content/uploads/2020/06/Facebook_Cover.png
END:VEVENT
BEGIN:VEVENT
DTSTART;VALUE=DATE:20200726
DTEND;VALUE=DATE:20200727
DTSTAMP:20260426T121558
CREATED:20200710T024017Z
LAST-MODIFIED:20200721T020538Z
UID:4755-1595721600-1595807999@oasischurch.com.au
SUMMARY:Sunday Services 9am & 6pm
DESCRIPTION:GATHER ONLINE\nChurch Online will continue to be streamed at 9AM and 6PM on our regular platforms. \n\n\n\n\n\n\n\n\n\n\nGATHER IN-PERSON\nIf you would like to gather in-person with us\, you can register for a Sunday service (9AM and 6PM) by using the links below or by calling (07) 3882 1989. Spaces are limited\, so registrations are essential. Registration will open each Tuesday at 10am. If you are unwell\, please do not attend at this time and join us on Church Online instead. \n\n\n\n\n\nRegister for our 9am serviceRegister for our 6pm service
URL:https://oasischurch.com.au/event/sunday-services-9am-6pm-12/
CATEGORIES:Community,Worship & Prayer
ATTACH;FMTTYPE=image/png:https://oasischurch.com.au/wp-content/uploads/2020/06/Facebook_Cover.png
END:VEVENT
BEGIN:VEVENT
DTSTART;VALUE=DATE:20200719
DTEND;VALUE=DATE:20200720
DTSTAMP:20260426T121558
CREATED:20200626T015932Z
LAST-MODIFIED:20200713T235625Z
UID:4662-1595116800-1595203199@oasischurch.com.au
SUMMARY:Sunday Services 9am & 6pm
DESCRIPTION:GATHER ONLINE\nChurch Online will continue to be streamed at 9AM and 6PM on our regular platforms. \n\n\n\n\n\n\n\n\n\n\nGATHER IN-PERSON\nIf you would like to gather in-person with us\, you can register for a Sunday service (9AM and 6PM) by using the links below or by calling (07) 3882 1989. Spaces are limited\, so registrations are essential. Registration will open each Tuesday at 10am. If you are unwell\, please do not attend at this time and join us on Church Online instead. \n\n\n\n\n\nRegister for the 9am ServiceRegister for the 6pm Service
URL:https://oasischurch.com.au/event/sunday-services-9am-6pm-10/
CATEGORIES:Community,Worship & Prayer
ATTACH;FMTTYPE=image/png:https://oasischurch.com.au/wp-content/uploads/2020/06/Facebook_Cover.png
END:VEVENT
BEGIN:VEVENT
DTSTART;VALUE=DATE:20200712
DTEND;VALUE=DATE:20200713
DTSTAMP:20260426T121558
CREATED:20200626T015909Z
LAST-MODIFIED:20200626T015909Z
UID:4660-1594512000-1594598399@oasischurch.com.au
SUMMARY:Sunday Services 9am & 6pm
DESCRIPTION:Let’s meet online \nLet’s keep up our weekly rhythm of meeting together to worship God\, only\, let’s do it online! God’s people have been meeting on a weekly basis for thousands of years (Acts 20:7). This is an important part of our Christian identity. So\, join us online at 9AM and 6PM on Sundays by using the following link: www.bpcc.sermon.net/live \nAnd let me encourage you to participate just like you would in a physical gathering. God still hears your singing and your prayers! And we are still joined together by the Holy Spirit even while physically apart (1 Corinthians 3:16; 12:13). So\, give God glory by singing to him. The live-stream shouldn’t be treated like a TV show to sit back and consume\, but a worship service to participate in for God’s glory. \nLive Stream
URL:https://oasischurch.com.au/event/sunday-services-9am-6pm-7/
CATEGORIES:Community,Worship & Prayer
ATTACH;FMTTYPE=image/jpeg:https://oasischurch.com.au/wp-content/uploads/2020/04/Church_online-1.jpg
END:VEVENT
BEGIN:VEVENT
DTSTART;VALUE=DATE:20200705
DTEND;VALUE=DATE:20200706
DTSTAMP:20260426T121558
CREATED:20200625T042429Z
LAST-MODIFIED:20200626T015828Z
UID:4621-1593907200-1593993599@oasischurch.com.au
SUMMARY:Sunday Services 9am & 6pm
DESCRIPTION:Let’s meet online \nLet’s keep up our weekly rhythm of meeting together to worship God\, only\, let’s do it online! God’s people have been meeting on a weekly basis for thousands of years (Acts 20:7). This is an important part of our Christian identity. So\, join us online at 9AM and 6PM on Sundays by using the following link: www.bpcc.sermon.net/live \nAnd let me encourage you to participate just like you would in a physical gathering. God still hears your singing and your prayers! And we are still joined together by the Holy Spirit even while physically apart (1 Corinthians 3:16; 12:13). So\, give God glory by singing to him. The live-stream shouldn’t be treated like a TV show to sit back and consume\, but a worship service to participate in for God’s glory. \nLive Stream
URL:https://oasischurch.com.au/event/sunday-services-9am-6pm-9/
CATEGORIES:Community,Worship & Prayer
ATTACH;FMTTYPE=image/jpeg:https://oasischurch.com.au/wp-content/uploads/2020/04/Church_online-1.jpg
END:VEVENT
BEGIN:VEVENT
DTSTART;VALUE=DATE:20200628
DTEND;VALUE=DATE:20200629
DTSTAMP:20260426T121558
CREATED:20200621T042402Z
LAST-MODIFIED:20200605T042418Z
UID:4619-1593302400-1593388799@oasischurch.com.au
SUMMARY:Sunday Services 9am & 6pm
DESCRIPTION:Let’s meet online \nLet’s keep up our weekly rhythm of meeting together to worship God\, only\, let’s do it online! God’s people have been meeting on a weekly basis for thousands of years (Acts 20:7). This is an important part of our Christian identity. So\, join us online at 9AM and 6PM on Sundays by using the following link: www.bpcc.sermon.net/live \nAnd let me encourage you to participate just like you would in a physical gathering. God still hears your singing and your prayers! And we are still joined together by the Holy Spirit even while physically apart (1 Corinthians 3:16; 12:13). So\, give God glory by singing to him. The live-stream shouldn’t be treated like a TV show to sit back and consume\, but a worship service to participate in for God’s glory. \nLive Stream
URL:https://oasischurch.com.au/event/sunday-services-9am-6pm-8/
CATEGORIES:Community,Worship & Prayer
ATTACH;FMTTYPE=image/jpeg:https://oasischurch.com.au/wp-content/uploads/2020/04/Church_online-1.jpg
END:VEVENT
BEGIN:VEVENT
DTSTART;VALUE=DATE:20200621
DTEND;VALUE=DATE:20200622
DTSTAMP:20260426T121558
CREATED:20200614T042122Z
LAST-MODIFIED:20200605T042144Z
UID:4611-1592697600-1592783999@oasischurch.com.au
SUMMARY:Sunday Services 9am & 6pm
DESCRIPTION:Let’s meet online \nLet’s keep up our weekly rhythm of meeting together to worship God\, only\, let’s do it online! God’s people have been meeting on a weekly basis for thousands of years (Acts 20:7). This is an important part of our Christian identity. So\, join us online at 9AM and 6PM on Sundays by using the following link: www.bpcc.sermon.net/live \nAnd let me encourage you to participate just like you would in a physical gathering. God still hears your singing and your prayers! And we are still joined together by the Holy Spirit even while physically apart (1 Corinthians 3:16; 12:13). So\, give God glory by singing to him. The live-stream shouldn’t be treated like a TV show to sit back and consume\, but a worship service to participate in for God’s glory. \nLive Stream
URL:https://oasischurch.com.au/event/sunday-services-9am-6pm-6/
CATEGORIES:Community,Worship & Prayer
ATTACH;FMTTYPE=image/jpeg:https://oasischurch.com.au/wp-content/uploads/2020/04/Church_online-1.jpg
END:VEVENT
BEGIN:VEVENT
DTSTART;VALUE=DATE:20200614
DTEND;VALUE=DATE:20200615
DTSTAMP:20260426T121558
CREATED:20200605T042109Z
LAST-MODIFIED:20200605T042109Z
UID:4609-1592092800-1592179199@oasischurch.com.au
SUMMARY:Sunday Services 9am & 6pm
DESCRIPTION:Let’s meet online \nLet’s keep up our weekly rhythm of meeting together to worship God\, only\, let’s do it online! God’s people have been meeting on a weekly basis for thousands of years (Acts 20:7). This is an important part of our Christian identity. So\, join us online at 9AM and 6PM on Sundays by using the following link: www.bpcc.sermon.net/live \nAnd let me encourage you to participate just like you would in a physical gathering. God still hears your singing and your prayers! And we are still joined together by the Holy Spirit even while physically apart (1 Corinthians 3:16; 12:13). So\, give God glory by singing to him. The live-stream shouldn’t be treated like a TV show to sit back and consume\, but a worship service to participate in for God’s glory. \nLive Stream
URL:https://oasischurch.com.au/event/sunday-services-9am-6pm-5/
CATEGORIES:Community,Worship & Prayer
ATTACH;FMTTYPE=image/jpeg:https://oasischurch.com.au/wp-content/uploads/2020/04/Church_online-1.jpg
END:VEVENT
BEGIN:VEVENT
DTSTART;VALUE=DATE:20200607
DTEND;VALUE=DATE:20200608
DTSTAMP:20260426T121558
CREATED:20200424T021442Z
LAST-MODIFIED:20200605T042046Z
UID:4512-1591488000-1591574399@oasischurch.com.au
SUMMARY:Sunday Services 9am & 6pm
DESCRIPTION:Let’s meet online \nLet’s keep up our weekly rhythm of meeting together to worship God\, only\, let’s do it online! God’s people have been meeting on a weekly basis for thousands of years (Acts 20:7). This is an important part of our Christian identity. So\, join us online at 9AM and 6PM on Sundays by using the following link: www.bpcc.sermon.net/live \nAnd let me encourage you to participate just like you would in a physical gathering. God still hears your singing and your prayers! And we are still joined together by the Holy Spirit even while physically apart (1 Corinthians 3:16; 12:13). So\, give God glory by singing to him. The live-stream shouldn’t be treated like a TV show to sit back and consume\, but a worship service to participate in for God’s glory. \nLive Stream
URL:https://oasischurch.com.au/event/sunday-services-9am-6pm-4/
CATEGORIES:Community,Worship & Prayer
ATTACH;FMTTYPE=image/jpeg:https://oasischurch.com.au/wp-content/uploads/2020/04/Church_online-1.jpg
END:VEVENT
BEGIN:VEVENT
DTSTART;VALUE=DATE:20200524
DTEND;VALUE=DATE:20200525
DTSTAMP:20260426T121558
CREATED:20200424T021406Z
LAST-MODIFIED:20200424T021420Z
UID:4510-1590278400-1590364799@oasischurch.com.au
SUMMARY:Sunday Services 9am & 6pm
DESCRIPTION:Let’s meet online \nLet’s keep up our weekly rhythm of meeting together to worship God\, only\, let’s do it online! God’s people have been meeting on a weekly basis for thousands of years (Acts 20:7). This is an important part of our Christian identity. So\, join us online at 9AM and 6PM on Sundays by using the following link: www.bpcc.sermon.net/live \nAnd let me encourage you to participate just like you would in a physical gathering. God still hears your singing and your prayers! And we are still joined together by the Holy Spirit even while physically apart (1 Corinthians 3:16; 12:13). So\, give God glory by singing to him. The live-stream shouldn’t be treated like a TV show to sit back and consume\, but a worship service to participate in for God’s glory. \nLive Stream
URL:https://oasischurch.com.au/event/sunday-services-9am-6pm-3/
CATEGORIES:Community,Worship & Prayer
ATTACH;FMTTYPE=image/jpeg:https://oasischurch.com.au/wp-content/uploads/2020/04/Church_online-1.jpg
END:VEVENT
BEGIN:VEVENT
DTSTART;VALUE=DATE:20200510
DTEND;VALUE=DATE:20200511
DTSTAMP:20260426T121558
CREATED:20200424T021343Z
LAST-MODIFIED:20200424T021343Z
UID:4508-1589068800-1589155199@oasischurch.com.au
SUMMARY:Sunday Services 9am & 6pm
DESCRIPTION:Let’s meet online \nLet’s keep up our weekly rhythm of meeting together to worship God\, only\, let’s do it online! God’s people have been meeting on a weekly basis for thousands of years (Acts 20:7). This is an important part of our Christian identity. So\, join us online at 9AM and 6PM on Sundays by using the following link: www.bpcc.sermon.net/live \nAnd let me encourage you to participate just like you would in a physical gathering. God still hears your singing and your prayers! And we are still joined together by the Holy Spirit even while physically apart (1 Corinthians 3:16; 12:13). So\, give God glory by singing to him. The live-stream shouldn’t be treated like a TV show to sit back and consume\, but a worship service to participate in for God’s glory. \nLive Stream
URL:https://oasischurch.com.au/event/sunday-services-9am-6pm-2/
CATEGORIES:Community,Worship & Prayer
ATTACH;FMTTYPE=image/jpeg:https://oasischurch.com.au/wp-content/uploads/2020/04/Church_online-1.jpg
END:VEVENT
BEGIN:VEVENT
DTSTART;TZID=Australia/Brisbane:20191029T190000
DTEND;TZID=Australia/Brisbane:20191029T210000
DTSTAMP:20260426T121558
CREATED:20191010T003007Z
LAST-MODIFIED:20191010T003135Z
UID:3864-1572375600-1572382800@oasischurch.com.au
SUMMARY:Worship & Prayer
DESCRIPTION:We hope to see you at the next Worship & Prayer evening.\nTuesday 29th September at 7pm\nIn the Youth Shed \n“You make known to me the path of life; you will fill me with joy in your presence\, with eternal pleasures at your right hand.” — Psalm 16:11 \nREGISTER NOW!
URL:https://oasischurch.com.au/event/3864/
LOCATION:BPCC\, 10 Youngs Crossing Road\, Bray Park\, QLD\, 4500\, Australia
CATEGORIES:Worship & Prayer
ATTACH;FMTTYPE=image/png:https://oasischurch.com.au/wp-content/uploads/2019/10/PrayerWorship_3.png
END:VEVENT
BEGIN:VEVENT
DTSTART;TZID=Australia/Brisbane:20190618T190000
DTEND;TZID=Australia/Brisbane:20190618T210000
DTSTAMP:20260426T121558
CREATED:20190412T015104Z
LAST-MODIFIED:20190412T015104Z
UID:3504-1560884400-1560891600@oasischurch.com.au
SUMMARY:Worship and Prayer Night
DESCRIPTION:Join us for a evening of Worship and Prayer.
URL:https://oasischurch.com.au/event/worship-and-prayer-night-3/
LOCATION:BPCC\, 10 Youngs Crossing Road\, Bray Park\, QLD\, 4500\, Australia
CATEGORIES:Community,Music,Worship & Prayer
ATTACH;FMTTYPE=image/png:https://oasischurch.com.au/wp-content/uploads/2019/04/Worshipprayer-June-e1555033807702.png
ORGANIZER;CN="BPCC Creative Team":MAILTO:creative@bpcc.com.au
END:VEVENT
BEGIN:VEVENT
DTSTART;TZID=Australia/Brisbane:20190417T190000
DTEND;TZID=Australia/Brisbane:20190417T210000
DTSTAMP:20260426T121559
CREATED:20190412T012927Z
LAST-MODIFIED:20190412T012927Z
UID:3496-1555527600-1555534800@oasischurch.com.au
SUMMARY:Worship and Prayer Night
DESCRIPTION:Wednesday the 17th of April\, we hope you will join us for a ‘Worship and Prayer’ evening at 7pm in the Youth Shed.
URL:https://oasischurch.com.au/event/worship-and-prayer-night-2/
LOCATION:BPCC\, 10 Youngs Crossing Road\, Bray Park\, QLD\, 4500\, Australia
CATEGORIES:Easter,Music,Worship & Prayer
ATTACH;FMTTYPE=image/jpeg:https://oasischurch.com.au/wp-content/uploads/2019/04/worship-and-prayer-e1555031274353.jpg
ORGANIZER;CN="BPCC Creative Team":MAILTO:creative@bpcc.com.au
END:VEVENT
BEGIN:VEVENT
DTSTART;VALUE=DATE:20190415
DTEND;VALUE=DATE:20190420
DTSTAMP:20260426T121559
CREATED:20190412T012212Z
LAST-MODIFIED:20190412T012312Z
UID:3494-1555286400-1555718399@oasischurch.com.au
SUMMARY:Prayer and Fasting Week
DESCRIPTION:As we approach Easter\, let me invite you to join us on a five-day ‘Prayer and Fasting’ journey. We know from Scripture that God graciously uses our prayers to accomplish His will. We read in 1 John 5: “This is the confidence we have before him: If we ask anything according to his will\, he hears us. And if we know that he hears whatever we ask\, we know that we have what we have asked of him.” (v. 14-15). \nFor this reason\, we are setting aside five days in the lead up to Easter for a time of focused prayer\, fasting\, and seeking God. We are asking God to draw more people to Himself and to a saving knowledge of Jesus\, and to draw us into a deeper relationship with Him and a deeper apprehension of His saving work in our lives. \nPrayer and Fasting Guide
URL:https://oasischurch.com.au/event/prayer-and-fasting-week/
CATEGORIES:Easter,Worship & Prayer
ATTACH;FMTTYPE=image/jpeg:https://oasischurch.com.au/wp-content/uploads/2019/04/prayer-and-fasting-e1555031256691.jpg
ORGANIZER;CN="Bray Park Community Church":MAILTO:office@bpcc.com.au
END:VEVENT
END:VCALENDAR