BEGIN:VCALENDAR
VERSION:2.0
PRODID:-//Oasis Church - ECPv6.15.20//NONSGML v1.0//EN
CALSCALE:GREGORIAN
METHOD:PUBLISH
X-ORIGINAL-URL:https://oasischurch.com.au
X-WR-CALDESC:Events for Oasis Church
REFRESH-INTERVAL;VALUE=DURATION:PT1H
X-Robots-Tag:noindex
X-PUBLISHED-TTL:PT1H
BEGIN:VTIMEZONE
TZID:Australia/Brisbane
BEGIN:STANDARD
TZOFFSETFROM:+1000
TZOFFSETTO:+1000
TZNAME:AEST
DTSTART:20250101T000000
END:STANDARD
END:VTIMEZONE
BEGIN:VEVENT
DTSTART;TZID=Australia/Brisbane:20260712T180000
DTEND;TZID=Australia/Brisbane:20260712T190000
DTSTAMP:20260425T214935
CREATED:20260413T044249Z
LAST-MODIFIED:20260413T044249Z
UID:12159-1783879200-1783882800@oasischurch.com.au
SUMMARY:Song & Prayer Night
DESCRIPTION:Join us Sunday the 12th of July for a special Song & Prayer Night. \nWhile it’s in our usual 6pm service time\, this evening will look a little different. We’ll spend extended time singing\, praying as a church family\, and hearing a message about prayer. \nThis is part of our desire to grow as a praying church; learning to depend more deeply on God and bring everything before Him in prayer. \nREGISTER NOW!
URL:https://oasischurch.com.au/event/song-prayer-night/
LOCATION:Oasis Church\, 10 Youngs Crossing Rd\, Bray Park\, QLD\, 4500\, Australia
CATEGORIES:Services,Worship & Prayer
ATTACH;FMTTYPE=image/png:https://oasischurch.com.au/wp-content/uploads/2026/04/Prayer-Night-Term-2-2026-Screen.png
END:VEVENT
END:VCALENDAR