BEGIN:VCALENDAR
VERSION:2.0
PRODID:-//Oasis Church - ECPv6.15.20//NONSGML v1.0//EN
CALSCALE:GREGORIAN
METHOD:PUBLISH
X-ORIGINAL-URL:https://oasischurch.com.au
X-WR-CALDESC:Events for Oasis Church
REFRESH-INTERVAL;VALUE=DURATION:PT1H
X-Robots-Tag:noindex
X-PUBLISHED-TTL:PT1H
BEGIN:VTIMEZONE
TZID:Australia/Brisbane
BEGIN:STANDARD
TZOFFSETFROM:+1000
TZOFFSETTO:+1000
TZNAME:AEST
DTSTART:20250101T000000
END:STANDARD
END:VTIMEZONE
BEGIN:VEVENT
DTSTART;TZID=Australia/Brisbane:20260613T130000
DTEND;TZID=Australia/Brisbane:20260613T170000
DTSTAMP:20260426T015405
CREATED:20260413T044447Z
LAST-MODIFIED:20260413T044447Z
UID:12162-1781355600-1781370000@oasischurch.com.au
SUMMARY:OCC Sewing Day
DESCRIPTION:OCC Sewing Day \nJoin us for an Operation Christmas Child Sewing Day on Saturday 13 June\, 1–5pm. We’ll be sewing and preparing handmade items to include in shoebox gifts that will bless children around the world. \nWhether you’re experienced with a sewing machine or happy to help in other ways\, everyone is welcome. Come along for an afternoon of creativity\, fellowship\, and making a difference together. ✂️ \nREGISTER NOW!
URL:https://oasischurch.com.au/event/occ-sewing-day/
LOCATION:Oasis Church\, 10 Youngs Crossing Rd\, Bray Park\, QLD\, 4500\, Australia
CATEGORIES:Missions
ATTACH;FMTTYPE=image/png:https://oasischurch.com.au/wp-content/uploads/2026/04/OCC-Sewing-Day-Term-2-2026-Screen-scaled.png
END:VEVENT
END:VCALENDAR