BEGIN:VCALENDAR
VERSION:2.0
PRODID:-//Oasis Church - ECPv6.15.20//NONSGML v1.0//EN
CALSCALE:GREGORIAN
METHOD:PUBLISH
X-WR-CALNAME:Oasis Church
X-ORIGINAL-URL:https://oasischurch.com.au
X-WR-CALDESC:Events for Oasis Church
REFRESH-INTERVAL;VALUE=DURATION:PT1H
X-Robots-Tag:noindex
X-PUBLISHED-TTL:PT1H
BEGIN:VTIMEZONE
TZID:Australia/Brisbane
BEGIN:STANDARD
TZOFFSETFROM:+1000
TZOFFSETTO:+1000
TZNAME:AEST
DTSTART:20180101T000000
END:STANDARD
END:VTIMEZONE
BEGIN:VEVENT
DTSTART;VALUE=DATE:20200412
DTEND;VALUE=DATE:20200413
DTSTAMP:20260426T133444
CREATED:20200320T025808Z
LAST-MODIFIED:20200320T025848Z
UID:4330-1586649600-1586735999@oasischurch.com.au
SUMMARY:Easter Sunday Service
DESCRIPTION:Let’s meet online \nJoin us Easter Sunday at 9AM by using the following link: www.bpcc.sermon.net/live \nAnd let me encourage you to participate just like you would in a physical gathering. God still hears your singing and your prayers! And we are still joined together by the Holy Spirit even while physically apart (1 Corinthians 3:16; 12:13). So\, give God glory by singing to him. The live-stream shouldn’t be treated like a TV show to sit back and consume\, but a worship service to participate in for God’s glory. \nLive Stream
URL:https://oasischurch.com.au/event/easter-sunday-service/
CATEGORIES:Easter
ATTACH;FMTTYPE=image/jpeg:https://oasischurch.com.au/wp-content/uploads/2020/03/Easter_Online.jpg
END:VEVENT
BEGIN:VEVENT
DTSTART;TZID=Australia/Brisbane:20190421T180000
DTEND;TZID=Australia/Brisbane:20190421T213000
DTSTAMP:20260426T133444
CREATED:20190412T011059Z
LAST-MODIFIED:20190412T011155Z
UID:3489-1555869600-1555882200@oasischurch.com.au
SUMMARY:Movie Night: Case For Christ
DESCRIPTION:Join us Easter Sunday night as we come together and watch ‘The Case For Christ’.
URL:https://oasischurch.com.au/event/movie-night-case-for-christ/
LOCATION:BPCC\, 10 Youngs Crossing Road\, Bray Park\, QLD\, 4500\, Australia
CATEGORIES:Easter
ATTACH;FMTTYPE=image/jpeg:https://oasischurch.com.au/wp-content/uploads/2019/04/casefor-christ-e1555031290332.jpg
ORGANIZER;CN="Bray Park Community Church":MAILTO:office@bpcc.com.au
END:VEVENT
BEGIN:VEVENT
DTSTART;TZID=Australia/Brisbane:20190417T190000
DTEND;TZID=Australia/Brisbane:20190417T210000
DTSTAMP:20260426T133444
CREATED:20190412T012927Z
LAST-MODIFIED:20190412T012927Z
UID:3496-1555527600-1555534800@oasischurch.com.au
SUMMARY:Worship and Prayer Night
DESCRIPTION:Wednesday the 17th of April\, we hope you will join us for a ‘Worship and Prayer’ evening at 7pm in the Youth Shed.
URL:https://oasischurch.com.au/event/worship-and-prayer-night-2/
LOCATION:BPCC\, 10 Youngs Crossing Road\, Bray Park\, QLD\, 4500\, Australia
CATEGORIES:Easter,Music,Worship & Prayer
ATTACH;FMTTYPE=image/jpeg:https://oasischurch.com.au/wp-content/uploads/2019/04/worship-and-prayer-e1555031274353.jpg
ORGANIZER;CN="BPCC Creative Team":MAILTO:creative@bpcc.com.au
END:VEVENT
BEGIN:VEVENT
DTSTART;VALUE=DATE:20190415
DTEND;VALUE=DATE:20190420
DTSTAMP:20260426T133444
CREATED:20190412T012212Z
LAST-MODIFIED:20190412T012312Z
UID:3494-1555286400-1555718399@oasischurch.com.au
SUMMARY:Prayer and Fasting Week
DESCRIPTION:As we approach Easter\, let me invite you to join us on a five-day ‘Prayer and Fasting’ journey. We know from Scripture that God graciously uses our prayers to accomplish His will. We read in 1 John 5: “This is the confidence we have before him: If we ask anything according to his will\, he hears us. And if we know that he hears whatever we ask\, we know that we have what we have asked of him.” (v. 14-15). \nFor this reason\, we are setting aside five days in the lead up to Easter for a time of focused prayer\, fasting\, and seeking God. We are asking God to draw more people to Himself and to a saving knowledge of Jesus\, and to draw us into a deeper relationship with Him and a deeper apprehension of His saving work in our lives. \nPrayer and Fasting Guide
URL:https://oasischurch.com.au/event/prayer-and-fasting-week/
CATEGORIES:Easter,Worship & Prayer
ATTACH;FMTTYPE=image/jpeg:https://oasischurch.com.au/wp-content/uploads/2019/04/prayer-and-fasting-e1555031256691.jpg
ORGANIZER;CN="Bray Park Community Church":MAILTO:office@bpcc.com.au
END:VEVENT
END:VCALENDAR