BEGIN:VCALENDAR
VERSION:2.0
PRODID:-//Oasis Church - ECPv6.15.20//NONSGML v1.0//EN
CALSCALE:GREGORIAN
METHOD:PUBLISH
X-ORIGINAL-URL:https://oasischurch.com.au
X-WR-CALDESC:Events for Oasis Church
REFRESH-INTERVAL;VALUE=DURATION:PT1H
X-Robots-Tag:noindex
X-PUBLISHED-TTL:PT1H
BEGIN:VTIMEZONE
TZID:Australia/Brisbane
BEGIN:STANDARD
TZOFFSETFROM:+1000
TZOFFSETTO:+1000
TZNAME:AEST
DTSTART:20170101T000000
END:STANDARD
END:VTIMEZONE
BEGIN:VEVENT
DTSTART;TZID=Australia/Brisbane:20211104T184500
DTEND;TZID=Australia/Brisbane:20211104T210000
DTSTAMP:20260426T091843
CREATED:20210722T051157Z
LAST-MODIFIED:20210722T051157Z
UID:6449-1636051500-1636059600@oasischurch.com.au
SUMMARY:Cadets
DESCRIPTION:Thursdays\nFortnightly 6.45pm-9pm @ BPCC\nFor boys in grades 2-6. Helping boys to discover more about themselves\, the world they live in and the God who created it all.\nCost: $60/year + joining fee of $30\nFor more information:\ncadets@bpcc.com.au \nREGISTER NOW!
URL:https://oasischurch.com.au/event/cadets-24/
LOCATION:BPCC\, 10 Youngs Crossing Road\, Bray Park\, QLD\, 4500\, Australia
CATEGORIES:Cadets
ATTACH;FMTTYPE=image/jpeg:https://oasischurch.com.au/wp-content/uploads/2020/01/Cadets_Term_1.jpg
ORGANIZER;CN="Cadets":MAILTO:cadets@bpcc.com.au
END:VEVENT
BEGIN:VEVENT
DTSTART;TZID=Australia/Brisbane:20211021T184500
DTEND;TZID=Australia/Brisbane:20211021T210000
DTSTAMP:20260426T091843
CREATED:20210722T051141Z
LAST-MODIFIED:20210722T051141Z
UID:6450-1634841900-1634850000@oasischurch.com.au
SUMMARY:Cadets
DESCRIPTION:Thursdays\nFortnightly 6.45pm-9pm @ BPCC\nFor boys in grades 2-6. Helping boys to discover more about themselves\, the world they live in and the God who created it all.\nCost: $60/year + joining fee of $30\nFor more information:\ncadets@bpcc.com.au \nREGISTER NOW!
URL:https://oasischurch.com.au/event/cadets-23/
LOCATION:BPCC\, 10 Youngs Crossing Road\, Bray Park\, QLD\, 4500\, Australia
CATEGORIES:Cadets
ATTACH;FMTTYPE=image/jpeg:https://oasischurch.com.au/wp-content/uploads/2020/01/Cadets_Term_1.jpg
ORGANIZER;CN="Cadets":MAILTO:cadets@bpcc.com.au
END:VEVENT
BEGIN:VEVENT
DTSTART;TZID=Australia/Brisbane:20211007T184500
DTEND;TZID=Australia/Brisbane:20211007T210000
DTSTAMP:20260426T091843
CREATED:20210722T051130Z
LAST-MODIFIED:20210722T051130Z
UID:6451-1633632300-1633640400@oasischurch.com.au
SUMMARY:Cadets
DESCRIPTION:Thursdays\nFortnightly 6.45pm-9pm @ BPCC\nFor boys in grades 2-6. Helping boys to discover more about themselves\, the world they live in and the God who created it all.\nCost: $60/year + joining fee of $30\nFor more information:\ncadets@bpcc.com.au \nREGISTER NOW!
URL:https://oasischurch.com.au/event/cadets-22/
LOCATION:BPCC\, 10 Youngs Crossing Road\, Bray Park\, QLD\, 4500\, Australia
CATEGORIES:Cadets
ATTACH;FMTTYPE=image/jpeg:https://oasischurch.com.au/wp-content/uploads/2020/01/Cadets_Term_1.jpg
ORGANIZER;CN="Cadets":MAILTO:cadets@bpcc.com.au
END:VEVENT
BEGIN:VEVENT
DTSTART;TZID=Australia/Brisbane:20210909T184500
DTEND;TZID=Australia/Brisbane:20210909T210000
DTSTAMP:20260426T091843
CREATED:20210722T051121Z
LAST-MODIFIED:20210722T051121Z
UID:6452-1631213100-1631221200@oasischurch.com.au
SUMMARY:Cadets
DESCRIPTION:Thursdays\nFortnightly 6.45pm-9pm @ BPCC\nFor boys in grades 2-6. Helping boys to discover more about themselves\, the world they live in and the God who created it all.\nCost: $60/year + joining fee of $30\nFor more information:\ncadets@bpcc.com.au \nREGISTER NOW!
URL:https://oasischurch.com.au/event/cadets-21/
LOCATION:BPCC\, 10 Youngs Crossing Road\, Bray Park\, QLD\, 4500\, Australia
CATEGORIES:Cadets
ATTACH;FMTTYPE=image/jpeg:https://oasischurch.com.au/wp-content/uploads/2020/01/Cadets_Term_1.jpg
ORGANIZER;CN="Cadets":MAILTO:cadets@bpcc.com.au
END:VEVENT
BEGIN:VEVENT
DTSTART;TZID=Australia/Brisbane:20210826T184500
DTEND;TZID=Australia/Brisbane:20210826T210000
DTSTAMP:20260426T091843
CREATED:20210722T051111Z
LAST-MODIFIED:20210722T051111Z
UID:6453-1630003500-1630011600@oasischurch.com.au
SUMMARY:Cadets
DESCRIPTION:Thursdays\nFortnightly 6.45pm-9pm @ BPCC\nFor boys in grades 2-6. Helping boys to discover more about themselves\, the world they live in and the God who created it all.\nCost: $60/year + joining fee of $30\nFor more information:\ncadets@bpcc.com.au \nREGISTER NOW!
URL:https://oasischurch.com.au/event/cadets-20/
LOCATION:BPCC\, 10 Youngs Crossing Road\, Bray Park\, QLD\, 4500\, Australia
CATEGORIES:Cadets
ATTACH;FMTTYPE=image/jpeg:https://oasischurch.com.au/wp-content/uploads/2020/01/Cadets_Term_1.jpg
ORGANIZER;CN="Cadets":MAILTO:cadets@bpcc.com.au
END:VEVENT
BEGIN:VEVENT
DTSTART;TZID=Australia/Brisbane:20210812T184500
DTEND;TZID=Australia/Brisbane:20210812T210000
DTSTAMP:20260426T091843
CREATED:20210722T051104Z
LAST-MODIFIED:20210722T051104Z
UID:6454-1628793900-1628802000@oasischurch.com.au
SUMMARY:Cadets
DESCRIPTION:Thursdays\nFortnightly 6.45pm-9pm @ BPCC\nFor boys in grades 2-6. Helping boys to discover more about themselves\, the world they live in and the God who created it all.\nCost: $60/year + joining fee of $30\nFor more information:\ncadets@bpcc.com.au \nREGISTER NOW!
URL:https://oasischurch.com.au/event/cadets-19/
LOCATION:BPCC\, 10 Youngs Crossing Road\, Bray Park\, QLD\, 4500\, Australia
CATEGORIES:Cadets
ATTACH;FMTTYPE=image/jpeg:https://oasischurch.com.au/wp-content/uploads/2020/01/Cadets_Term_1.jpg
ORGANIZER;CN="Cadets":MAILTO:cadets@bpcc.com.au
END:VEVENT
BEGIN:VEVENT
DTSTART;TZID=Australia/Brisbane:20210729T184500
DTEND;TZID=Australia/Brisbane:20210729T210000
DTSTAMP:20260426T091843
CREATED:20210722T051053Z
LAST-MODIFIED:20210722T051053Z
UID:6455-1627584300-1627592400@oasischurch.com.au
SUMMARY:Cadets
DESCRIPTION:Thursdays\nFortnightly 6.45pm-9pm @ BPCC\nFor boys in grades 2-6. Helping boys to discover more about themselves\, the world they live in and the God who created it all.\nCost: $60/year + joining fee of $30\nFor more information:\ncadets@bpcc.com.au \nREGISTER NOW!
URL:https://oasischurch.com.au/event/cadets-18/
LOCATION:BPCC\, 10 Youngs Crossing Road\, Bray Park\, QLD\, 4500\, Australia
CATEGORIES:Cadets
ATTACH;FMTTYPE=image/jpeg:https://oasischurch.com.au/wp-content/uploads/2020/01/Cadets_Term_1.jpg
ORGANIZER;CN="Cadets":MAILTO:cadets@bpcc.com.au
END:VEVENT
BEGIN:VEVENT
DTSTART;TZID=Australia/Brisbane:20210617T184500
DTEND;TZID=Australia/Brisbane:20210617T210000
DTSTAMP:20260426T091843
CREATED:20210603T025244Z
LAST-MODIFIED:20210423T025405Z
UID:6078-1623955500-1623963600@oasischurch.com.au
SUMMARY:Cadets
DESCRIPTION:Thursdays\nFortnightly 6.45pm-9pm @ BPCC\nFor boys in grades 2-6. Helping boys to discover more about themselves\, the world they live in and the God who created it all.\nCost: $60/year + joining fee of $30\nFor more information:\ncadets@bpcc.com.au \nREGISTER NOW!
URL:https://oasischurch.com.au/event/cadets-17/
LOCATION:BPCC\, 10 Youngs Crossing Road\, Bray Park\, QLD\, 4500\, Australia
CATEGORIES:Cadets
ATTACH;FMTTYPE=image/jpeg:https://oasischurch.com.au/wp-content/uploads/2020/01/Cadets_Term_1.jpg
ORGANIZER;CN="Cadets":MAILTO:cadets@bpcc.com.au
END:VEVENT
BEGIN:VEVENT
DTSTART;TZID=Australia/Brisbane:20210603T184500
DTEND;TZID=Australia/Brisbane:20210603T210000
DTSTAMP:20260426T091843
CREATED:20210520T025243Z
LAST-MODIFIED:20210423T025347Z
UID:6079-1622745900-1622754000@oasischurch.com.au
SUMMARY:Cadets
DESCRIPTION:Thursdays\nFortnightly 6.45pm-9pm @ BPCC\nFor boys in grades 2-6. Helping boys to discover more about themselves\, the world they live in and the God who created it all.\nCost: $60/year + joining fee of $30\nFor more information:\ncadets@bpcc.com.au \nREGISTER NOW!
URL:https://oasischurch.com.au/event/cadets-16/
LOCATION:BPCC\, 10 Youngs Crossing Road\, Bray Park\, QLD\, 4500\, Australia
CATEGORIES:Cadets
ATTACH;FMTTYPE=image/jpeg:https://oasischurch.com.au/wp-content/uploads/2020/01/Cadets_Term_1.jpg
ORGANIZER;CN="Cadets":MAILTO:cadets@bpcc.com.au
END:VEVENT
BEGIN:VEVENT
DTSTART;TZID=Australia/Brisbane:20210506T184500
DTEND;TZID=Australia/Brisbane:20210506T210000
DTSTAMP:20260426T091843
CREATED:20210423T025301Z
LAST-MODIFIED:20210423T025301Z
UID:6081-1620326700-1620334800@oasischurch.com.au
SUMMARY:Cadets
DESCRIPTION:Thursdays\nFortnightly 6.45pm-9pm @ BPCC\nFor boys in grades 2-6. Helping boys to discover more about themselves\, the world they live in and the God who created it all.\nCost: $60/year + joining fee of $30\nFor more information:\ncadets@bpcc.com.au \nREGISTER NOW!
URL:https://oasischurch.com.au/event/cadets-14/
LOCATION:BPCC\, 10 Youngs Crossing Road\, Bray Park\, QLD\, 4500\, Australia
CATEGORIES:Cadets
ATTACH;FMTTYPE=image/jpeg:https://oasischurch.com.au/wp-content/uploads/2020/01/Cadets_Term_1.jpg
ORGANIZER;CN="Cadets":MAILTO:cadets@bpcc.com.au
END:VEVENT
BEGIN:VEVENT
DTSTART;TZID=Australia/Brisbane:20210325T184500
DTEND;TZID=Australia/Brisbane:20210325T210000
DTSTAMP:20260426T091843
CREATED:20210311T041538Z
LAST-MODIFIED:20210122T041915Z
UID:5572-1616697900-1616706000@oasischurch.com.au
SUMMARY:Cadets
DESCRIPTION:Thursdays\nFortnightly 6.45pm-9pm @ BPCC\nFor boys in grades 2-6. Helping boys to discover more about themselves\, the world they live in and the God who created it all.\nCost: $60/year + joining fee of $30\nFor more information:\ncadets@bpcc.com.au \nREGISTER NOW!
URL:https://oasischurch.com.au/event/cadets-13/
LOCATION:BPCC\, 10 Youngs Crossing Road\, Bray Park\, QLD\, 4500\, Australia
CATEGORIES:Cadets
ATTACH;FMTTYPE=image/jpeg:https://oasischurch.com.au/wp-content/uploads/2020/01/Cadets_Term_1.jpg
ORGANIZER;CN="Cadets":MAILTO:cadets@bpcc.com.au
END:VEVENT
BEGIN:VEVENT
DTSTART;TZID=Australia/Brisbane:20210225T184500
DTEND;TZID=Australia/Brisbane:20210225T210000
DTSTAMP:20260426T091843
CREATED:20210211T041506Z
LAST-MODIFIED:20210122T041524Z
UID:5573-1614278700-1614286800@oasischurch.com.au
SUMMARY:Cadets
DESCRIPTION:Thursdays\nFortnightly 6.45pm-9pm @ BPCC\nFor boys in grades 2-6. Helping boys to discover more about themselves\, the world they live in and the God who created it all.\nCost: $60/year + joining fee of $30\nFor more information:\ncadets@bpcc.com.au \nREGISTER NOW!
URL:https://oasischurch.com.au/event/cadets-11/
LOCATION:BPCC\, 10 Youngs Crossing Road\, Bray Park\, QLD\, 4500\, Australia
CATEGORIES:Cadets
ATTACH;FMTTYPE=image/jpeg:https://oasischurch.com.au/wp-content/uploads/2020/01/Cadets_Term_1.jpg
ORGANIZER;CN="Cadets":MAILTO:cadets@bpcc.com.au
END:VEVENT
BEGIN:VEVENT
DTSTART;TZID=Australia/Brisbane:20210211T184500
DTEND;TZID=Australia/Brisbane:20210211T210000
DTSTAMP:20260426T091843
CREATED:20210225T041537Z
LAST-MODIFIED:20210122T041848Z
UID:5571-1613069100-1613077200@oasischurch.com.au
SUMMARY:Cadets
DESCRIPTION:Thursdays\nFortnightly 6.45pm-9pm @ BPCC\nFor boys in grades 2-6. Helping boys to discover more about themselves\, the world they live in and the God who created it all.\nCost: $60/year + joining fee of $30\nFor more information:\ncadets@bpcc.com.au \nREGISTER NOW!
URL:https://oasischurch.com.au/event/cadets-12/
LOCATION:BPCC\, 10 Youngs Crossing Road\, Bray Park\, QLD\, 4500\, Australia
CATEGORIES:Cadets,Children
ATTACH;FMTTYPE=image/jpeg:https://oasischurch.com.au/wp-content/uploads/2020/01/Cadets_Term_1.jpg
ORGANIZER;CN="Cadets":MAILTO:cadets@bpcc.com.au
END:VEVENT
BEGIN:VEVENT
DTSTART;TZID=Australia/Brisbane:20210211T184500
DTEND;TZID=Australia/Brisbane:20210211T210000
DTSTAMP:20260426T091843
CREATED:20210122T041431Z
LAST-MODIFIED:20210122T041431Z
UID:5566-1613069100-1613077200@oasischurch.com.au
SUMMARY:Cadets
DESCRIPTION:Thursdays\nFortnightly 6.45pm-9pm @ BPCC\nFor boys in grades 2-6. Helping boys to discover more about themselves\, the world they live in and the God who created it all.\nCost: $60/year + joining fee of $30\nFor more information:\ncadets@bpcc.com.au \nREGISTER NOW!
URL:https://oasischurch.com.au/event/cadets-10/
LOCATION:BPCC\, 10 Youngs Crossing Road\, Bray Park\, QLD\, 4500\, Australia
CATEGORIES:Cadets
ATTACH;FMTTYPE=image/jpeg:https://oasischurch.com.au/wp-content/uploads/2020/01/Cadets_Term_1.jpg
ORGANIZER;CN="Cadets":MAILTO:cadets@bpcc.com.au
END:VEVENT
BEGIN:VEVENT
DTSTART;TZID=Australia/Brisbane:20201112T184500
DTEND;TZID=Australia/Brisbane:20201112T210000
DTSTAMP:20260426T091843
CREATED:20201029T020142Z
LAST-MODIFIED:20201002T020221Z
UID:5097-1605206700-1605214800@oasischurch.com.au
SUMMARY:Cadets
DESCRIPTION:Thursdays\nFortnightly 6.45pm-9pm @ BPCC\nFor boys in grades 2-6. Helping boys to discover more about themselves\, the world they live in and the God who created it all.\nCost: $60/year + joining fee of $30\nFor more information:\ncadets@bpcc.com.au \nREGISTER NOW!
URL:https://oasischurch.com.au/event/cadets-9/
LOCATION:BPCC\, 10 Youngs Crossing Road\, Bray Park\, QLD\, 4500\, Australia
CATEGORIES:Cadets
ATTACH;FMTTYPE=image/jpeg:https://oasischurch.com.au/wp-content/uploads/2020/01/Cadets_Term_1.jpg
ORGANIZER;CN="Cadets":MAILTO:cadets@bpcc.com.au
END:VEVENT
BEGIN:VEVENT
DTSTART;TZID=Australia/Brisbane:20201029T184500
DTEND;TZID=Australia/Brisbane:20201029T210000
DTSTAMP:20260426T091843
CREATED:20201015T020140Z
LAST-MODIFIED:20201002T020157Z
UID:5099-1603997100-1604005200@oasischurch.com.au
SUMMARY:Cadets
DESCRIPTION:Thursdays\nFortnightly 6.45pm-9pm @ BPCC\nFor boys in grades 2-6. Helping boys to discover more about themselves\, the world they live in and the God who created it all.\nCost: $60/year + joining fee of $30\nFor more information:\ncadets@bpcc.com.au \nREGISTER NOW!
URL:https://oasischurch.com.au/event/cadets-8/
LOCATION:BPCC\, 10 Youngs Crossing Road\, Bray Park\, QLD\, 4500\, Australia
CATEGORIES:Cadets
ATTACH;FMTTYPE=image/jpeg:https://oasischurch.com.au/wp-content/uploads/2020/01/Cadets_Term_1.jpg
ORGANIZER;CN="Cadets":MAILTO:cadets@bpcc.com.au
END:VEVENT
BEGIN:VEVENT
DTSTART;TZID=Australia/Brisbane:20201015T184500
DTEND;TZID=Australia/Brisbane:20201015T210000
DTSTAMP:20260426T091843
CREATED:20201002T020115Z
LAST-MODIFIED:20201002T020115Z
UID:5100-1602787500-1602795600@oasischurch.com.au
SUMMARY:Cadets
DESCRIPTION:Thursdays\nFortnightly 6.45pm-9pm @ BPCC\nFor boys in grades 2-6. Helping boys to discover more about themselves\, the world they live in and the God who created it all.\nCost: $60/year + joining fee of $30\nFor more information:\ncadets@bpcc.com.au \nREGISTER NOW!
URL:https://oasischurch.com.au/event/cadets-7/
LOCATION:BPCC\, 10 Youngs Crossing Road\, Bray Park\, QLD\, 4500\, Australia
CATEGORIES:Cadets
ATTACH;FMTTYPE=image/jpeg:https://oasischurch.com.au/wp-content/uploads/2020/01/Cadets_Term_1.jpg
ORGANIZER;CN="Cadets":MAILTO:cadets@bpcc.com.au
END:VEVENT
BEGIN:VEVENT
DTSTART;TZID=Australia/Brisbane:20200917T184500
DTEND;TZID=Australia/Brisbane:20200917T210000
DTSTAMP:20260426T091843
CREATED:20200904T011709Z
LAST-MODIFIED:20200904T021006Z
UID:4882-1600368300-1600376400@oasischurch.com.au
SUMMARY:Cadets
DESCRIPTION:Thursdays\nFortnightly 6.45pm-9pm @ BPCC\nFor boys in grades 2-6. Helping boys to discover more about themselves\, the world they live in and the God who created it all.\nCost: $60/year + joining fee of $30\nFor more information:\ncadets@bpcc.com.au \nREGISTER NOW!
URL:https://oasischurch.com.au/event/cadets-6/
LOCATION:BPCC\, 10 Youngs Crossing Road\, Bray Park\, QLD\, 4500\, Australia
CATEGORIES:Cadets
ATTACH;FMTTYPE=image/jpeg:https://oasischurch.com.au/wp-content/uploads/2020/01/Cadets_Term_1.jpg
ORGANIZER;CN="Cadets":MAILTO:cadets@bpcc.com.au
END:VEVENT
BEGIN:VEVENT
DTSTART;TZID=Australia/Brisbane:20200903T184500
DTEND;TZID=Australia/Brisbane:20200903T210000
DTSTAMP:20260426T091843
CREATED:20200820T041626Z
LAST-MODIFIED:20200724T041653Z
UID:4880-1599158700-1599166800@oasischurch.com.au
SUMMARY:Cadets
DESCRIPTION:Thursdays\nFortnightly 6.45pm-9pm @ BPCC\nFor boys in grades 2-6. Helping boys to discover more about themselves\, the world they live in and the God who created it all.\nCost: $60/year + joining fee of $30\nFor more information:\ncadets@bpcc.com.au \nREGISTER NOW!
URL:https://oasischurch.com.au/event/cadets-5/
LOCATION:BPCC\, 10 Youngs Crossing Road\, Bray Park\, QLD\, 4500\, Australia
CATEGORIES:Cadets
ATTACH;FMTTYPE=image/jpeg:https://oasischurch.com.au/wp-content/uploads/2020/01/Cadets_Term_1.jpg
ORGANIZER;CN="Cadets":MAILTO:cadets@bpcc.com.au
END:VEVENT
BEGIN:VEVENT
DTSTART;TZID=Australia/Brisbane:20200820T184500
DTEND;TZID=Australia/Brisbane:20200820T210000
DTSTAMP:20260426T091843
CREATED:20200810T041551Z
LAST-MODIFIED:20200724T041610Z
UID:4878-1597949100-1597957200@oasischurch.com.au
SUMMARY:Cadets
DESCRIPTION:Thursdays\nFortnightly 6.45pm-9pm @ BPCC\nFor boys in grades 2-6. Helping boys to discover more about themselves\, the world they live in and the God who created it all.\nCost: $60/year + joining fee of $30\nFor more information:\ncadets@bpcc.com.au \nREGISTER NOW!
URL:https://oasischurch.com.au/event/cadets-4/
LOCATION:BPCC\, 10 Youngs Crossing Road\, Bray Park\, QLD\, 4500\, Australia
CATEGORIES:Cadets
ATTACH;FMTTYPE=image/jpeg:https://oasischurch.com.au/wp-content/uploads/2020/01/Cadets_Term_1.jpg
ORGANIZER;CN="Cadets":MAILTO:cadets@bpcc.com.au
END:VEVENT
BEGIN:VEVENT
DTSTART;TZID=Australia/Brisbane:20200806T184500
DTEND;TZID=Australia/Brisbane:20200806T210000
DTSTAMP:20260426T091843
CREATED:20200220T045547Z
LAST-MODIFIED:20200724T041535Z
UID:4107-1596739500-1596747600@oasischurch.com.au
SUMMARY:Cadets
DESCRIPTION:Thursdays\nFortnightly 6.45pm-9pm @ BPCC\nFor boys in grades 2-6. Helping boys to discover more about themselves\, the world they live in and the God who created it all.\nCost: $60/year + joining fee of $30\nFor more information:\ncadets@bpcc.com.au \nREGISTER NOW!
URL:https://oasischurch.com.au/event/cadets-3/
LOCATION:BPCC\, 10 Youngs Crossing Road\, Bray Park\, QLD\, 4500\, Australia
CATEGORIES:Cadets
ATTACH;FMTTYPE=image/jpeg:https://oasischurch.com.au/wp-content/uploads/2020/01/Cadets_Term_1.jpg
ORGANIZER;CN="Cadets":MAILTO:cadets@bpcc.com.au
END:VEVENT
BEGIN:VEVENT
DTSTART;TZID=Australia/Brisbane:20200220T064500
DTEND;TZID=Australia/Brisbane:20200220T210000
DTSTAMP:20260426T091843
CREATED:20200131T045519Z
LAST-MODIFIED:20200131T050130Z
UID:4105-1582181100-1582232400@oasischurch.com.au
SUMMARY:Cadets
DESCRIPTION:Thursdays\nFortnightly 6.45pm-9pm @ BPCC\nFor boys in grades 2-6. Helping boys to discover more about themselves\, the world they live in and the God who created it all.\nCost: $60/year + joining fee of $30\nFor more information:\ncadets@bpcc.com.au \nREGISTER NOW!
URL:https://oasischurch.com.au/event/cadets-2/
LOCATION:BPCC\, 10 Youngs Crossing Road\, Bray Park\, QLD\, 4500\, Australia
CATEGORIES:Cadets
ATTACH;FMTTYPE=image/jpeg:https://oasischurch.com.au/wp-content/uploads/2020/01/Cadets_Term_1.jpg
ORGANIZER;CN="Cadets":MAILTO:cadets@bpcc.com.au
END:VEVENT
BEGIN:VEVENT
DTSTART;TZID=Australia/Brisbane:20200206T184500
DTEND;TZID=Australia/Brisbane:20200206T210000
DTSTAMP:20260426T091843
CREATED:20200117T044036Z
LAST-MODIFIED:20200131T050146Z
UID:4057-1581014700-1581022800@oasischurch.com.au
SUMMARY:Cadets
DESCRIPTION:Thursdays\nFortnightly 6.45pm-9pm @ BPCC\nFor boys in grades 2-6. Helping boys to discover more about themselves\, the world they live in and the God who created it all.\nCost: $60/year + joining fee of $30\nFor more information:\ncadets@bpcc.com.au \nREGISTER NOW!
URL:https://oasischurch.com.au/event/cadets/
LOCATION:BPCC\, 10 Youngs Crossing Road\, Bray Park\, QLD\, 4500\, Australia
CATEGORIES:Cadets
ATTACH;FMTTYPE=image/jpeg:https://oasischurch.com.au/wp-content/uploads/2020/01/Cadets_Term_1.jpg
ORGANIZER;CN="Cadets":MAILTO:cadets@bpcc.com.au
END:VEVENT
BEGIN:VEVENT
DTSTART;TZID=Australia/Brisbane:20190517T170000
DTEND;TZID=Australia/Brisbane:20190519T110000
DTSTAMP:20260426T091843
CREATED:20190329T022722Z
LAST-MODIFIED:20190329T023035Z
UID:3460-1558112400-1558263600@oasischurch.com.au
SUMMARY:GEMS and Cadet Camp
DESCRIPTION:GEMS and Cadets will be heading out to Samford for their annual combined camp. 17th-19th May 2019. \nREGISTER NOW!
URL:https://oasischurch.com.au/event/gems-and-cadet-camp-2/
LOCATION:CCC Campsite\, Cedar Creek Road\, Sanford\, Queensland\, 4500\, Australia
CATEGORIES:Cadets,GEMS
ATTACH;FMTTYPE=image/jpeg:https://oasischurch.com.au/wp-content/uploads/2019/03/Slide2-e1553826289412.jpg
ORGANIZER;CN="GEMS":MAILTO:gems@bpcc.com.au
END:VEVENT
BEGIN:VEVENT
DTSTART;TZID=Australia/Brisbane:20181012T170000
DTEND;TZID=Australia/Brisbane:20181014T110000
DTSTAMP:20260426T091843
CREATED:20180802T065602Z
LAST-MODIFIED:20181007T232759Z
UID:2965-1539363600-1539514800@oasischurch.com.au
SUMMARY:GEMS and Cadet Camp
DESCRIPTION:REGISTER NOW!
URL:https://oasischurch.com.au/event/gems-and-cadet-camp/
LOCATION:QLD
CATEGORIES:Cadets,GEMS
ATTACH;FMTTYPE=image/jpeg:https://oasischurch.com.au/wp-content/uploads/2018/08/Slide6.jpg
END:VEVENT
BEGIN:VEVENT
DTSTART;VALUE=DATE:20180909
DTEND;VALUE=DATE:20180910
DTSTAMP:20260426T091843
CREATED:20180907T025303Z
LAST-MODIFIED:20180907T025601Z
UID:3093-1536451200-1536537599@oasischurch.com.au
SUMMARY:Connect Sunday
DESCRIPTION:After the service this Sunday there will be baked goods for sale and a sausage sizzle. The delicious treats have been lovingly made by our GEMS girls\, while the Cadets will be cooking the sausage sizzle. Please stay after the service for fellowship (it’s Connect Sunday!) and to support the 2018 GEMS and Cadet mission project in the Solomon Islands.  All donations will go directly to the Honiara Hospital School Project.
URL:https://oasischurch.com.au/event/connect-sunday-2/
LOCATION:BPCC\, 10 Youngs Crossing Road\, Bray Park\, QLD\, 4500\, Australia
CATEGORIES:Cadets,Community,GEMS,Missions
ATTACH;FMTTYPE=image/png:https://oasischurch.com.au/wp-content/uploads/2018/09/connectsundaysep.png
END:VEVENT
END:VCALENDAR