BEGIN:VCALENDAR
VERSION:2.0
PRODID:-//Oasis Church - ECPv6.15.20//NONSGML v1.0//EN
CALSCALE:GREGORIAN
METHOD:PUBLISH
X-WR-CALNAME:Oasis Church
X-ORIGINAL-URL:https://oasischurch.com.au
X-WR-CALDESC:Events for Oasis Church
REFRESH-INTERVAL;VALUE=DURATION:PT1H
X-Robots-Tag:noindex
X-PUBLISHED-TTL:PT1H
BEGIN:VTIMEZONE
TZID:Australia/Brisbane
BEGIN:STANDARD
TZOFFSETFROM:+1000
TZOFFSETTO:+1000
TZNAME:AEST
DTSTART:20220101T000000
END:STANDARD
END:VTIMEZONE
BEGIN:VEVENT
DTSTART;TZID=Australia/Brisbane:20241121T184500
DTEND;TZID=Australia/Brisbane:20241121T210000
DTSTAMP:20260426T034603
CREATED:20240119T003353Z
LAST-MODIFIED:20240119T003353Z
UID:9588-1732214700-1732222800@oasischurch.com.au
SUMMARY:Cadets
DESCRIPTION:CADETS\nThursdays\nFortnightly 6.45pm—9pm at Oasis Church\nFor boys in grades 2—6. Helping boys to discover more about themselves\, the world they live in and the God who created it all.\nCost: $70/year + joining fee of $30\nFor more information:\ncadets@oasischurch.com.au \nREGISTER NOW!
URL:https://oasischurch.com.au/event/cadets-67/
LOCATION:Oasis Church\, 10 Youngs Crossing Rd\, Bray Park\, QLD\, 4500\, Australia
CATEGORIES:Cadets,Children
ATTACH;FMTTYPE=image/png:https://oasischurch.com.au/wp-content/uploads/2023/04/Cadets-2-1.png
END:VEVENT
BEGIN:VEVENT
DTSTART;TZID=Australia/Brisbane:20241107T184500
DTEND;TZID=Australia/Brisbane:20241107T210000
DTSTAMP:20260426T034603
CREATED:20240119T003343Z
LAST-MODIFIED:20240119T003343Z
UID:9589-1731005100-1731013200@oasischurch.com.au
SUMMARY:Cadets
DESCRIPTION:CADETS\nThursdays\nFortnightly 6.45pm—9pm at Oasis Church\nFor boys in grades 2—6. Helping boys to discover more about themselves\, the world they live in and the God who created it all.\nCost: $70/year + joining fee of $30\nFor more information:\ncadets@oasischurch.com.au \nREGISTER NOW!
URL:https://oasischurch.com.au/event/cadets-66/
LOCATION:Oasis Church\, 10 Youngs Crossing Rd\, Bray Park\, QLD\, 4500\, Australia
CATEGORIES:Cadets,Children
ATTACH;FMTTYPE=image/png:https://oasischurch.com.au/wp-content/uploads/2023/04/Cadets-2-1.png
END:VEVENT
BEGIN:VEVENT
DTSTART;TZID=Australia/Brisbane:20241024T184500
DTEND;TZID=Australia/Brisbane:20241024T210000
DTSTAMP:20260426T034603
CREATED:20240119T003334Z
LAST-MODIFIED:20240119T003334Z
UID:9590-1729795500-1729803600@oasischurch.com.au
SUMMARY:Cadets
DESCRIPTION:CADETS\nThursdays\nFortnightly 6.45pm—9pm at Oasis Church\nFor boys in grades 2—6. Helping boys to discover more about themselves\, the world they live in and the God who created it all.\nCost: $70/year + joining fee of $30\nFor more information:\ncadets@oasischurch.com.au \nREGISTER NOW!
URL:https://oasischurch.com.au/event/cadets-65/
LOCATION:Oasis Church\, 10 Youngs Crossing Rd\, Bray Park\, QLD\, 4500\, Australia
CATEGORIES:Cadets,Children
ATTACH;FMTTYPE=image/png:https://oasischurch.com.au/wp-content/uploads/2023/04/Cadets-2-1.png
END:VEVENT
BEGIN:VEVENT
DTSTART;TZID=Australia/Brisbane:20241010T184500
DTEND;TZID=Australia/Brisbane:20241010T210000
DTSTAMP:20260426T034603
CREATED:20240119T003323Z
LAST-MODIFIED:20240119T003323Z
UID:9591-1728585900-1728594000@oasischurch.com.au
SUMMARY:Cadets
DESCRIPTION:CADETS\nThursdays\nFortnightly 6.45pm—9pm at Oasis Church\nFor boys in grades 2—6. Helping boys to discover more about themselves\, the world they live in and the God who created it all.\nCost: $70/year + joining fee of $30\nFor more information:\ncadets@oasischurch.com.au \nREGISTER NOW!
URL:https://oasischurch.com.au/event/cadets-64/
LOCATION:Oasis Church\, 10 Youngs Crossing Rd\, Bray Park\, QLD\, 4500\, Australia
CATEGORIES:Cadets,Children
ATTACH;FMTTYPE=image/png:https://oasischurch.com.au/wp-content/uploads/2023/04/Cadets-2-1.png
END:VEVENT
BEGIN:VEVENT
DTSTART;TZID=Australia/Brisbane:20240912T184500
DTEND;TZID=Australia/Brisbane:20240912T210000
DTSTAMP:20260426T034603
CREATED:20240119T003314Z
LAST-MODIFIED:20240119T003314Z
UID:9592-1726166700-1726174800@oasischurch.com.au
SUMMARY:Cadets
DESCRIPTION:CADETS\nThursdays\nFortnightly 6.45pm—9pm at Oasis Church\nFor boys in grades 2—6. Helping boys to discover more about themselves\, the world they live in and the God who created it all.\nCost: $70/year + joining fee of $30\nFor more information:\ncadets@oasischurch.com.au \nREGISTER NOW!
URL:https://oasischurch.com.au/event/cadets-63/
LOCATION:Oasis Church\, 10 Youngs Crossing Rd\, Bray Park\, QLD\, 4500\, Australia
CATEGORIES:Cadets,Children
ATTACH;FMTTYPE=image/png:https://oasischurch.com.au/wp-content/uploads/2023/04/Cadets-2-1.png
END:VEVENT
BEGIN:VEVENT
DTSTART;TZID=Australia/Brisbane:20240829T184500
DTEND;TZID=Australia/Brisbane:20240829T210000
DTSTAMP:20260426T034603
CREATED:20240119T003304Z
LAST-MODIFIED:20240119T003304Z
UID:9593-1724957100-1724965200@oasischurch.com.au
SUMMARY:Cadets
DESCRIPTION:CADETS\nThursdays\nFortnightly 6.45pm—9pm at Oasis Church\nFor boys in grades 2—6. Helping boys to discover more about themselves\, the world they live in and the God who created it all.\nCost: $70/year + joining fee of $30\nFor more information:\ncadets@oasischurch.com.au \nREGISTER NOW!
URL:https://oasischurch.com.au/event/cadets-62/
LOCATION:Oasis Church\, 10 Youngs Crossing Rd\, Bray Park\, QLD\, 4500\, Australia
CATEGORIES:Cadets,Children
ATTACH;FMTTYPE=image/png:https://oasischurch.com.au/wp-content/uploads/2023/04/Cadets-2-1.png
END:VEVENT
BEGIN:VEVENT
DTSTART;TZID=Australia/Brisbane:20240815T184500
DTEND;TZID=Australia/Brisbane:20240815T210000
DTSTAMP:20260426T034603
CREATED:20240119T003236Z
LAST-MODIFIED:20240119T003236Z
UID:9594-1723747500-1723755600@oasischurch.com.au
SUMMARY:Cadets
DESCRIPTION:CADETS\nThursdays\nFortnightly 6.45pm—9pm at Oasis Church\nFor boys in grades 2—6. Helping boys to discover more about themselves\, the world they live in and the God who created it all.\nCost: $70/year + joining fee of $30\nFor more information:\ncadets@oasischurch.com.au \nREGISTER NOW!
URL:https://oasischurch.com.au/event/cadets-61/
LOCATION:Oasis Church\, 10 Youngs Crossing Rd\, Bray Park\, QLD\, 4500\, Australia
CATEGORIES:Cadets,Children
ATTACH;FMTTYPE=image/png:https://oasischurch.com.au/wp-content/uploads/2023/04/Cadets-2-1.png
END:VEVENT
BEGIN:VEVENT
DTSTART;TZID=Australia/Brisbane:20240801T184500
DTEND;TZID=Australia/Brisbane:20240801T210000
DTSTAMP:20260426T034603
CREATED:20240119T003226Z
LAST-MODIFIED:20240119T003226Z
UID:9595-1722537900-1722546000@oasischurch.com.au
SUMMARY:Cadets
DESCRIPTION:CADETS\nThursdays\nFortnightly 6.45pm—9pm at Oasis Church\nFor boys in grades 2—6. Helping boys to discover more about themselves\, the world they live in and the God who created it all.\nCost: $70/year + joining fee of $30\nFor more information:\ncadets@oasischurch.com.au \nREGISTER NOW!
URL:https://oasischurch.com.au/event/cadets-60/
LOCATION:Oasis Church\, 10 Youngs Crossing Rd\, Bray Park\, QLD\, 4500\, Australia
CATEGORIES:Cadets,Children
ATTACH;FMTTYPE=image/png:https://oasischurch.com.au/wp-content/uploads/2023/04/Cadets-2-1.png
END:VEVENT
BEGIN:VEVENT
DTSTART;TZID=Australia/Brisbane:20240718T184500
DTEND;TZID=Australia/Brisbane:20240718T210000
DTSTAMP:20260426T034603
CREATED:20240119T003202Z
LAST-MODIFIED:20240119T003202Z
UID:9596-1721328300-1721336400@oasischurch.com.au
SUMMARY:Cadets
DESCRIPTION:CADETS\nThursdays\nFortnightly 6.45pm—9pm at Oasis Church\nFor boys in grades 2—6. Helping boys to discover more about themselves\, the world they live in and the God who created it all.\nCost: $70/year + joining fee of $30\nFor more information:\ncadets@oasischurch.com.au \nREGISTER NOW!
URL:https://oasischurch.com.au/event/cadets-59/
LOCATION:Oasis Church\, 10 Youngs Crossing Rd\, Bray Park\, QLD\, 4500\, Australia
CATEGORIES:Cadets,Children
ATTACH;FMTTYPE=image/png:https://oasischurch.com.au/wp-content/uploads/2023/04/Cadets-2-1.png
END:VEVENT
BEGIN:VEVENT
DTSTART;TZID=Australia/Brisbane:20240620T184500
DTEND;TZID=Australia/Brisbane:20240620T210000
DTSTAMP:20260426T034603
CREATED:20240119T003150Z
LAST-MODIFIED:20240119T003150Z
UID:9597-1718909100-1718917200@oasischurch.com.au
SUMMARY:Cadets
DESCRIPTION:CADETS\nThursdays\nFortnightly 6.45pm—9pm at Oasis Church\nFor boys in grades 2—6. Helping boys to discover more about themselves\, the world they live in and the God who created it all.\nCost: $70/year + joining fee of $30\nFor more information:\ncadets@oasischurch.com.au \nREGISTER NOW!
URL:https://oasischurch.com.au/event/cadets-58/
LOCATION:Oasis Church\, 10 Youngs Crossing Rd\, Bray Park\, QLD\, 4500\, Australia
CATEGORIES:Cadets,Children
ATTACH;FMTTYPE=image/png:https://oasischurch.com.au/wp-content/uploads/2023/04/Cadets-2-1.png
END:VEVENT
BEGIN:VEVENT
DTSTART;TZID=Australia/Brisbane:20240606T184500
DTEND;TZID=Australia/Brisbane:20240606T210000
DTSTAMP:20260426T034603
CREATED:20240119T003141Z
LAST-MODIFIED:20240119T003141Z
UID:9598-1717699500-1717707600@oasischurch.com.au
SUMMARY:Cadets
DESCRIPTION:CADETS\nThursdays\nFortnightly 6.45pm—9pm at Oasis Church\nFor boys in grades 2—6. Helping boys to discover more about themselves\, the world they live in and the God who created it all.\nCost: $70/year + joining fee of $30\nFor more information:\ncadets@oasischurch.com.au \nREGISTER NOW!
URL:https://oasischurch.com.au/event/cadets-57/
LOCATION:Oasis Church\, 10 Youngs Crossing Rd\, Bray Park\, QLD\, 4500\, Australia
CATEGORIES:Cadets,Children
ATTACH;FMTTYPE=image/png:https://oasischurch.com.au/wp-content/uploads/2023/04/Cadets-2-1.png
END:VEVENT
BEGIN:VEVENT
DTSTART;TZID=Australia/Brisbane:20240509T184500
DTEND;TZID=Australia/Brisbane:20240509T210000
DTSTAMP:20260426T034603
CREATED:20240119T003123Z
LAST-MODIFIED:20240119T003123Z
UID:9600-1715280300-1715288400@oasischurch.com.au
SUMMARY:Cadets
DESCRIPTION:CADETS\nThursdays\nFortnightly 6.45pm—9pm at Oasis Church\nFor boys in grades 2—6. Helping boys to discover more about themselves\, the world they live in and the God who created it all.\nCost: $70/year + joining fee of $30\nFor more information:\ncadets@oasischurch.com.au \nREGISTER NOW!
URL:https://oasischurch.com.au/event/cadets-55/
LOCATION:Oasis Church\, 10 Youngs Crossing Rd\, Bray Park\, QLD\, 4500\, Australia
CATEGORIES:Cadets,Children
ATTACH;FMTTYPE=image/png:https://oasischurch.com.au/wp-content/uploads/2023/04/Cadets-2-1.png
END:VEVENT
BEGIN:VEVENT
DTSTART;TZID=Australia/Brisbane:20240328T184500
DTEND;TZID=Australia/Brisbane:20240328T210000
DTSTAMP:20260426T034603
CREATED:20240119T003114Z
LAST-MODIFIED:20240119T003114Z
UID:9601-1711651500-1711659600@oasischurch.com.au
SUMMARY:Cadets
DESCRIPTION:CADETS\nThursdays\nFortnightly 6.45pm—9pm at Oasis Church\nFor boys in grades 2—6. Helping boys to discover more about themselves\, the world they live in and the God who created it all.\nCost: $70/year + joining fee of $30\nFor more information:\ncadets@oasischurch.com.au \nREGISTER NOW!
URL:https://oasischurch.com.au/event/cadets-54/
LOCATION:Oasis Church\, 10 Youngs Crossing Rd\, Bray Park\, QLD\, 4500\, Australia
CATEGORIES:Cadets,Children
ATTACH;FMTTYPE=image/png:https://oasischurch.com.au/wp-content/uploads/2023/04/Cadets-2-1.png
END:VEVENT
BEGIN:VEVENT
DTSTART;TZID=Australia/Brisbane:20240314T184500
DTEND;TZID=Australia/Brisbane:20240314T210000
DTSTAMP:20260426T034603
CREATED:20240119T003107Z
LAST-MODIFIED:20240119T003107Z
UID:9602-1710441900-1710450000@oasischurch.com.au
SUMMARY:Cadets
DESCRIPTION:CADETS\nThursdays\nFortnightly 6.45pm—9pm at Oasis Church\nFor boys in grades 2—6. Helping boys to discover more about themselves\, the world they live in and the God who created it all.\nCost: $70/year + joining fee of $30\nFor more information:\ncadets@oasischurch.com.au \nREGISTER NOW!
URL:https://oasischurch.com.au/event/cadets-53/
LOCATION:Oasis Church\, 10 Youngs Crossing Rd\, Bray Park\, QLD\, 4500\, Australia
CATEGORIES:Cadets,Children
ATTACH;FMTTYPE=image/png:https://oasischurch.com.au/wp-content/uploads/2023/04/Cadets-2-1.png
END:VEVENT
BEGIN:VEVENT
DTSTART;TZID=Australia/Brisbane:20240229T184500
DTEND;TZID=Australia/Brisbane:20240229T210000
DTSTAMP:20260426T034603
CREATED:20240119T003058Z
LAST-MODIFIED:20240119T003058Z
UID:9603-1709232300-1709240400@oasischurch.com.au
SUMMARY:Cadets
DESCRIPTION:CADETS\nThursdays\nFortnightly 6.45pm—9pm at Oasis Church\nFor boys in grades 2—6. Helping boys to discover more about themselves\, the world they live in and the God who created it all.\nCost: $70/year + joining fee of $30\nFor more information:\ncadets@oasischurch.com.au \nREGISTER NOW!
URL:https://oasischurch.com.au/event/cadets-52/
LOCATION:Oasis Church\, 10 Youngs Crossing Rd\, Bray Park\, QLD\, 4500\, Australia
CATEGORIES:Cadets,Children
ATTACH;FMTTYPE=image/png:https://oasischurch.com.au/wp-content/uploads/2023/04/Cadets-2-1.png
END:VEVENT
BEGIN:VEVENT
DTSTART;TZID=Australia/Brisbane:20240215T184500
DTEND;TZID=Australia/Brisbane:20240215T210000
DTSTAMP:20260426T034603
CREATED:20240119T003050Z
LAST-MODIFIED:20240119T003050Z
UID:9604-1708022700-1708030800@oasischurch.com.au
SUMMARY:Cadets
DESCRIPTION:CADETS\nThursdays\nFortnightly 6.45pm—9pm at Oasis Church\nFor boys in grades 2—6. Helping boys to discover more about themselves\, the world they live in and the God who created it all.\nCost: $70/year + joining fee of $30\nFor more information:\ncadets@oasischurch.com.au \nREGISTER NOW!
URL:https://oasischurch.com.au/event/cadets-51/
LOCATION:Oasis Church\, 10 Youngs Crossing Rd\, Bray Park\, QLD\, 4500\, Australia
CATEGORIES:Cadets,Children
ATTACH;FMTTYPE=image/png:https://oasischurch.com.au/wp-content/uploads/2023/04/Cadets-2-1.png
END:VEVENT
BEGIN:VEVENT
DTSTART;TZID=Australia/Brisbane:20240201T184500
DTEND;TZID=Australia/Brisbane:20240201T210000
DTSTAMP:20260426T034603
CREATED:20240119T002825Z
LAST-MODIFIED:20240119T002825Z
UID:8767-1706813100-1706821200@oasischurch.com.au
SUMMARY:Cadets
DESCRIPTION:CADETS\nThursdays\nFortnightly 6.45pm—9pm at Oasis Church\nFor boys in grades 2—6. Helping boys to discover more about themselves\, the world they live in and the God who created it all.\nCost: $70/year + joining fee of $30\nFor more information:\ncadets@oasischurch.com.au \nREGISTER NOW!
URL:https://oasischurch.com.au/event/cadets-50/
LOCATION:Oasis Church\, 10 Youngs Crossing Rd\, Bray Park\, QLD\, 4500\, Australia
CATEGORIES:Cadets,Children
ATTACH;FMTTYPE=image/png:https://oasischurch.com.au/wp-content/uploads/2023/04/Cadets-2-1.png
END:VEVENT
BEGIN:VEVENT
DTSTART;TZID=Australia/Brisbane:20231116T184500
DTEND;TZID=Australia/Brisbane:20231116T210000
DTSTAMP:20260426T034603
CREATED:20231011T010717Z
LAST-MODIFIED:20230711T010911Z
UID:9081-1700160300-1700168400@oasischurch.com.au
SUMMARY:Cadets
DESCRIPTION:CADETS\nThursdays\nFortnightly 6.45pm—9pm at Oasis Church\nFor boys in grades 2—6. Helping boys to discover more about themselves\, the world they live in and the God who created it all.\nCost: $60/year + joining fee of $30\nFor more information:\ncadets@oasischurch.com.au \nREGISTER NOW!
URL:https://oasischurch.com.au/event/cadets-49/
LOCATION:Oasis Church\, 10 Youngs Crossing Rd\, Bray Park\, QLD\, 4500\, Australia
CATEGORIES:Cadets,Children
ATTACH;FMTTYPE=image/jpeg:https://oasischurch.com.au/wp-content/uploads/2022/02/Cadets_3.jpg
END:VEVENT
BEGIN:VEVENT
DTSTART;TZID=Australia/Brisbane:20231102T184500
DTEND;TZID=Australia/Brisbane:20231102T210000
DTSTAMP:20260426T034603
CREATED:20231011T010715Z
LAST-MODIFIED:20230711T010853Z
UID:9082-1698950700-1698958800@oasischurch.com.au
SUMMARY:Cadets
DESCRIPTION:CADETS\nThursdays\nFortnightly 6.45pm—9pm at Oasis Church\nFor boys in grades 2—6. Helping boys to discover more about themselves\, the world they live in and the God who created it all.\nCost: $60/year + joining fee of $30\nFor more information:\ncadets@oasischurch.com.au \nREGISTER NOW!
URL:https://oasischurch.com.au/event/cadets-48/
LOCATION:Oasis Church\, 10 Youngs Crossing Rd\, Bray Park\, QLD\, 4500\, Australia
CATEGORIES:Cadets,Children
ATTACH;FMTTYPE=image/jpeg:https://oasischurch.com.au/wp-content/uploads/2022/02/Cadets_3.jpg
END:VEVENT
BEGIN:VEVENT
DTSTART;TZID=Australia/Brisbane:20231019T184500
DTEND;TZID=Australia/Brisbane:20231019T210000
DTSTAMP:20260426T034603
CREATED:20230911T010714Z
LAST-MODIFIED:20230711T010839Z
UID:9083-1697741100-1697749200@oasischurch.com.au
SUMMARY:Cadets
DESCRIPTION:CADETS\nThursdays\nFortnightly 6.45pm—9pm at Oasis Church\nFor boys in grades 2—6. Helping boys to discover more about themselves\, the world they live in and the God who created it all.\nCost: $60/year + joining fee of $30\nFor more information:\ncadets@oasischurch.com.au \nREGISTER NOW!
URL:https://oasischurch.com.au/event/cadets-47/
LOCATION:Oasis Church\, 10 Youngs Crossing Rd\, Bray Park\, QLD\, 4500\, Australia
CATEGORIES:Cadets,Children
ATTACH;FMTTYPE=image/jpeg:https://oasischurch.com.au/wp-content/uploads/2022/02/Cadets_3.jpg
END:VEVENT
BEGIN:VEVENT
DTSTART;TZID=Australia/Brisbane:20231005T184500
DTEND;TZID=Australia/Brisbane:20231005T210000
DTSTAMP:20260426T034603
CREATED:20230911T010713Z
LAST-MODIFIED:20230711T010817Z
UID:9084-1696531500-1696539600@oasischurch.com.au
SUMMARY:Cadets
DESCRIPTION:CADETS\nThursdays\nFortnightly 6.45pm—9pm at Oasis Church\nFor boys in grades 2—6. Helping boys to discover more about themselves\, the world they live in and the God who created it all.\nCost: $60/year + joining fee of $30\nFor more information:\ncadets@oasischurch.com.au \nREGISTER NOW!
URL:https://oasischurch.com.au/event/cadets-46/
LOCATION:Oasis Church\, 10 Youngs Crossing Rd\, Bray Park\, QLD\, 4500\, Australia
CATEGORIES:Cadets,Children
ATTACH;FMTTYPE=image/jpeg:https://oasischurch.com.au/wp-content/uploads/2022/02/Cadets_3.jpg
END:VEVENT
BEGIN:VEVENT
DTSTART;TZID=Australia/Brisbane:20230907T184500
DTEND;TZID=Australia/Brisbane:20230907T210000
DTSTAMP:20260426T034603
CREATED:20230811T010712Z
LAST-MODIFIED:20230711T010759Z
UID:9085-1694112300-1694120400@oasischurch.com.au
SUMMARY:Cadets
DESCRIPTION:CADETS\nThursdays\nFortnightly 6.45pm—9pm at Oasis Church\nFor boys in grades 2—6. Helping boys to discover more about themselves\, the world they live in and the God who created it all.\nCost: $60/year + joining fee of $30\nFor more information:\ncadets@oasischurch.com.au \nREGISTER NOW!
URL:https://oasischurch.com.au/event/cadets-45/
LOCATION:Oasis Church\, 10 Youngs Crossing Rd\, Bray Park\, QLD\, 4500\, Australia
CATEGORIES:Cadets,Children
ATTACH;FMTTYPE=image/jpeg:https://oasischurch.com.au/wp-content/uploads/2022/02/Cadets_3.jpg
END:VEVENT
BEGIN:VEVENT
DTSTART;TZID=Australia/Brisbane:20230824T184500
DTEND;TZID=Australia/Brisbane:20230824T210000
DTSTAMP:20260426T034603
CREATED:20230801T010708Z
LAST-MODIFIED:20230711T010736Z
UID:9086-1692902700-1692910800@oasischurch.com.au
SUMMARY:Cadets
DESCRIPTION:CADETS\nThursdays\nFortnightly 6.45pm—9pm at Oasis Church\nFor boys in grades 2—6. Helping boys to discover more about themselves\, the world they live in and the God who created it all.\nCost: $60/year + joining fee of $30\nFor more information:\ncadets@oasischurch.com.au \nREGISTER NOW!
URL:https://oasischurch.com.au/event/cadets-44/
LOCATION:Oasis Church\, 10 Youngs Crossing Rd\, Bray Park\, QLD\, 4500\, Australia
CATEGORIES:Cadets,Children
ATTACH;FMTTYPE=image/jpeg:https://oasischurch.com.au/wp-content/uploads/2022/02/Cadets_3.jpg
END:VEVENT
BEGIN:VEVENT
DTSTART;TZID=Australia/Brisbane:20230810T184500
DTEND;TZID=Australia/Brisbane:20230810T210000
DTSTAMP:20260426T034603
CREATED:20230711T010730Z
LAST-MODIFIED:20230711T010730Z
UID:9087-1691693100-1691701200@oasischurch.com.au
SUMMARY:Cadets
DESCRIPTION:CADETS\nThursdays\nFortnightly 6.45pm—9pm at Oasis Church\nFor boys in grades 2—6. Helping boys to discover more about themselves\, the world they live in and the God who created it all.\nCost: $60/year + joining fee of $30\nFor more information:\ncadets@oasischurch.com.au \nREGISTER NOW!
URL:https://oasischurch.com.au/event/cadets-43/
LOCATION:Oasis Church\, 10 Youngs Crossing Rd\, Bray Park\, QLD\, 4500\, Australia
CATEGORIES:Cadets,Children
ATTACH;FMTTYPE=image/jpeg:https://oasischurch.com.au/wp-content/uploads/2022/02/Cadets_3.jpg
END:VEVENT
BEGIN:VEVENT
DTSTART;TZID=Australia/Brisbane:20230727T184500
DTEND;TZID=Australia/Brisbane:20230727T210000
DTSTAMP:20260426T034603
CREATED:20230711T010510Z
LAST-MODIFIED:20230711T010510Z
UID:9079-1690483500-1690491600@oasischurch.com.au
SUMMARY:Cadets
DESCRIPTION:CADETS\nThursdays\nFortnightly 6.45pm—9pm at Oasis Church\nFor boys in grades 2—6. Helping boys to discover more about themselves\, the world they live in and the God who created it all.\nCost: $60/year + joining fee of $30\nFor more information:\ncadets@oasischurch.com.au \nREGISTER NOW!
URL:https://oasischurch.com.au/event/cadets-42/
LOCATION:Oasis Church\, 10 Youngs Crossing Rd\, Bray Park\, QLD\, 4500\, Australia
CATEGORIES:Cadets,Children
ATTACH;FMTTYPE=image/jpeg:https://oasischurch.com.au/wp-content/uploads/2022/02/Cadets_3.jpg
END:VEVENT
BEGIN:VEVENT
DTSTART;TZID=Australia/Brisbane:20230629T184500
DTEND;TZID=Australia/Brisbane:20230629T210000
DTSTAMP:20260426T034603
CREATED:20230418T024033Z
LAST-MODIFIED:20230418T024033Z
UID:8768-1688064300-1688072400@oasischurch.com.au
SUMMARY:Cadets
DESCRIPTION:CADETS\nThursdays\nFortnightly 6.45pm—9pm at Oasis Church\nFor boys in grades 2—6. Helping boys to discover more about themselves\, the world they live in and the God who created it all.\nCost: $60/year + joining fee of $30\nFor more information:\ncadets@oasischurch.com.au \nREGISTER NOW!
URL:https://oasischurch.com.au/event/cadets-41/
LOCATION:Oasis Church\, 10 Youngs Crossing Rd\, Bray Park\, QLD\, 4500\, Australia
CATEGORIES:Cadets,Children
ATTACH;FMTTYPE=image/jpeg:https://oasischurch.com.au/wp-content/uploads/2022/02/Cadets_3.jpg
END:VEVENT
BEGIN:VEVENT
DTSTART;TZID=Australia/Brisbane:20230615T184500
DTEND;TZID=Australia/Brisbane:20230615T210000
DTSTAMP:20260426T034603
CREATED:20230601T024024Z
LAST-MODIFIED:20230418T024101Z
UID:8769-1686854700-1686862800@oasischurch.com.au
SUMMARY:Cadets
DESCRIPTION:CADETS\nThursdays\nFortnightly 6.45pm—9pm at Oasis Church\nFor boys in grades 2—6. Helping boys to discover more about themselves\, the world they live in and the God who created it all.\nCost: $60/year + joining fee of $30\nFor more information:\ncadets@oasischurch.com.au \nREGISTER NOW!
URL:https://oasischurch.com.au/event/cadets-40/
LOCATION:Oasis Church\, 10 Youngs Crossing Rd\, Bray Park\, QLD\, 4500\, Australia
CATEGORIES:Cadets,Children
ATTACH;FMTTYPE=image/jpeg:https://oasischurch.com.au/wp-content/uploads/2022/02/Cadets_3.jpg
END:VEVENT
BEGIN:VEVENT
DTSTART;TZID=Australia/Brisbane:20230518T184500
DTEND;TZID=Australia/Brisbane:20230518T210000
DTSTAMP:20260426T034603
CREATED:20230501T024009Z
LAST-MODIFIED:20230418T024132Z
UID:8771-1684435500-1684443600@oasischurch.com.au
SUMMARY:Cadets
DESCRIPTION:CADETS\nThursdays\nFortnightly 6.45pm—9pm at Oasis Church\nFor boys in grades 2—6. Helping boys to discover more about themselves\, the world they live in and the God who created it all.\nCost: $60/year + joining fee of $30\nFor more information:\ncadets@oasischurch.com.au \nREGISTER NOW!
URL:https://oasischurch.com.au/event/cadets-38/
LOCATION:Oasis Church\, 10 Youngs Crossing Rd\, Bray Park\, QLD\, 4500\, Australia
CATEGORIES:Cadets,Children
ATTACH;FMTTYPE=image/jpeg:https://oasischurch.com.au/wp-content/uploads/2022/02/Cadets_3.jpg
END:VEVENT
BEGIN:VEVENT
DTSTART;TZID=Australia/Brisbane:20230504T184500
DTEND;TZID=Australia/Brisbane:20230504T210000
DTSTAMP:20260426T034603
CREATED:20230418T023941Z
LAST-MODIFIED:20230418T023953Z
UID:8772-1683225900-1683234000@oasischurch.com.au
SUMMARY:Cadets
DESCRIPTION:CADETS\nThursdays\nFortnightly 6.45pm—9pm at Oasis Church\nFor boys in grades 2—6. Helping boys to discover more about themselves\, the world they live in and the God who created it all.\nCost: $60/year + joining fee of $30\nFor more information:\ncadets@oasischurch.com.au \nREGISTER NOW!
URL:https://oasischurch.com.au/event/cadets-37/
LOCATION:Oasis Church\, 10 Youngs Crossing Rd\, Bray Park\, QLD\, 4500\, Australia
CATEGORIES:Cadets,Children
ATTACH;FMTTYPE=image/jpeg:https://oasischurch.com.au/wp-content/uploads/2022/02/Cadets_3.jpg
END:VEVENT
BEGIN:VEVENT
DTSTART;TZID=Australia/Brisbane:20230420T184500
DTEND;TZID=Australia/Brisbane:20230420T210000
DTSTAMP:20260426T034603
CREATED:20230418T023739Z
LAST-MODIFIED:20230418T023739Z
UID:8765-1682016300-1682024400@oasischurch.com.au
SUMMARY:Cadets
DESCRIPTION:CADETS\nThursdays\nFortnightly 6.45pm—9pm at Oasis Church\nFor boys in grades 2—6. Helping boys to discover more about themselves\, the world they live in and the God who created it all.\nCost: $60/year + joining fee of $30\nFor more information:\ncadets@oasischurch.com.au \nREGISTER NOW!
URL:https://oasischurch.com.au/event/cadets-36/
LOCATION:Oasis Church\, 10 Youngs Crossing Rd\, Bray Park\, QLD\, 4500\, Australia
CATEGORIES:Cadets,Children
ATTACH;FMTTYPE=image/jpeg:https://oasischurch.com.au/wp-content/uploads/2022/02/Cadets_3.jpg
END:VEVENT
END:VCALENDAR