BEGIN:VCALENDAR
VERSION:2.0
PRODID:-//Oasis Church - ECPv6.15.20//NONSGML v1.0//EN
CALSCALE:GREGORIAN
METHOD:PUBLISH
X-ORIGINAL-URL:https://oasischurch.com.au
X-WR-CALDESC:Events for Oasis Church
REFRESH-INTERVAL;VALUE=DURATION:PT1H
X-Robots-Tag:noindex
X-PUBLISHED-TTL:PT1H
BEGIN:VTIMEZONE
TZID:Australia/Brisbane
BEGIN:STANDARD
TZOFFSETFROM:+1000
TZOFFSETTO:+1000
TZNAME:AEST
DTSTART:20250101T000000
END:STANDARD
END:VTIMEZONE
BEGIN:VEVENT
DTSTART;TZID=Australia/Brisbane:20260530T080000
DTEND;TZID=Australia/Brisbane:20260530T150000
DTSTAMP:20260426T003329
CREATED:20260413T045903Z
LAST-MODIFIED:20260413T045903Z
UID:12174-1780128000-1780153200@oasischurch.com.au
SUMMARY:Working Bee
DESCRIPTION:Come lend a hand at our upcoming church working bee!\nThere are jobs for all skill levels\, including cleaning\, organising\, and simple maintenance tasks. You can sign up for a task on the sign‑up sheet\, so everyone can help in a way that suits them. \nEvery helping hand makes a difference—we’d love to see you there! \nSIGN UP SHEET \nREGISTER NOW!
URL:https://oasischurch.com.au/event/working-bee-2/
LOCATION:Oasis Church\, 10 Youngs Crossing Rd\, Bray Park\, QLD\, 4500\, Australia
CATEGORIES:Building Project,Community
ATTACH;FMTTYPE=image/png:https://oasischurch.com.au/wp-content/uploads/2026/04/Oasis-Working-Bee-Term-2-2026-Screen.png
END:VEVENT
END:VCALENDAR